BEGIN:VCALENDAR
PRODID:-//eluceo/ical//2.0/EN
VERSION:2.0
CALSCALE:GREGORIAN
BEGIN:VEVENT
UID:38ae863bffb6ed250790a8705a35bfc9
DTSTAMP:20260423T100128Z
SUMMARY:Rótarýfundur
DESCRIPTION:
URL:https://borgir.rotary1360.is/is/agenda/show/3035
DTSTART;TZID=Iceland:20220127T074500
DTEND;TZID=Iceland:20220127T084500
LOCATION:Zoomfundur\n
CATEGORIES:Rotary
END:VEVENT
BEGIN:VTIMEZONE
TZID:Iceland
BEGIN:STANDARD
DTSTART:20220127T074500
TZNAME:GMT
TZOFFSETTO:+0000
TZOFFSETFROM:+0000
END:STANDARD
END:VTIMEZONE
END:VCALENDAR
