BEGIN:VCALENDAR
PRODID:-//eluceo/ical//2.0/EN
VERSION:2.0
CALSCALE:GREGORIAN
BEGIN:VEVENT
UID:47fddbb10e96490ad03853a4c15077b4
DTSTAMP:20260422T175244Z
SUMMARY:Fundur í Verkefnanefnd
DESCRIPTION:
URL:https://borgir.rotary1360.is/is/agenda/show/1748
DTSTART;TZID=Iceland:20200109T084500
DTEND;TZID=Iceland:20200109T091500
LOCATION:Borgir - safnaðarheimili\nHábraut 1\n200 Kópavogur\n
CATEGORIES:Rotary
END:VEVENT
BEGIN:VTIMEZONE
TZID:Iceland
BEGIN:STANDARD
DTSTART:20200109T084500
TZNAME:GMT
TZOFFSETTO:+0000
TZOFFSETFROM:+0000
END:STANDARD
END:VTIMEZONE
END:VCALENDAR
