BEGIN:VCALENDAR
PRODID:-//eluceo/ical//2.0/EN
VERSION:2.0
CALSCALE:GREGORIAN
BEGIN:VEVENT
UID:5244ca5be80a6ef8b007cd8d5310db8c
DTSTAMP:20260422T202921Z
SUMMARY:19. fundur starfsársins
DESCRIPTION:
URL:https://borgir.rotary1360.is/is/agenda/show/1383
DTSTART;TZID=Iceland:20191212T074500
DTEND;TZID=Iceland:20191212T083000
LOCATION:Borgir - safnaðarheimili\nHábraut 1\n200 Kópavogur\n
CATEGORIES:Rotary
END:VEVENT
BEGIN:VTIMEZONE
TZID:Iceland
BEGIN:STANDARD
DTSTART:20191212T074500
TZNAME:GMT
TZOFFSETTO:+0000
TZOFFSETFROM:+0000
END:STANDARD
END:VTIMEZONE
END:VCALENDAR
