BEGIN:VCALENDAR
PRODID:-//eluceo/ical//2.0/EN
VERSION:2.0
CALSCALE:GREGORIAN
BEGIN:VEVENT
UID:752003af30121ed13e836a167e361ec7
DTSTAMP:20260420T102139Z
SUMMARY:Þjóðmálanefnd
DESCRIPTION:
URL:https://borgir.rotary1360.is/en/agenda/show/452
DTSTART;TZID=Iceland:20181025T084500
DTEND;TZID=Iceland:20181025T093000
LOCATION:Borgir - safnaðarheimili\nHábraut 1\n200 Kópavogur\n
CATEGORIES:Rotary
END:VEVENT
BEGIN:VTIMEZONE
TZID:Iceland
BEGIN:STANDARD
DTSTART:20181025T084500
TZNAME:GMT
TZOFFSETTO:+0000
TZOFFSETFROM:+0000
END:STANDARD
END:VTIMEZONE
END:VCALENDAR
