BEGIN:VCALENDAR
PRODID:-//eluceo/ical//2.0/EN
VERSION:2.0
CALSCALE:GREGORIAN
BEGIN:VEVENT
UID:27aa870a90936e08594f2311498409ba
DTSTAMP:20260422T181754Z
SUMMARY:Umdæmisþing föstudagur
DESCRIPTION:
URL:https://borgir.rotary1360.is/en/agenda/show/3256
DTSTART;TZID=Iceland:20211008T170000
DTEND;TZID=Iceland:20211008T200000
LOCATION:Hallormsstaður\n
CATEGORIES:Rotary
END:VEVENT
BEGIN:VTIMEZONE
TZID:Iceland
BEGIN:STANDARD
DTSTART:20211008T170000
TZNAME:GMT
TZOFFSETTO:+0000
TZOFFSETFROM:+0000
END:STANDARD
END:VTIMEZONE
END:VCALENDAR
