BEGIN:VCALENDAR
PRODID:-//eluceo/ical//2.0/EN
VERSION:2.0
CALSCALE:GREGORIAN
BEGIN:VEVENT
UID:def3850aabf03336f136d4ba42581e5f
DTSTAMP:20260422T195307Z
SUMMARY:Heimsókn umdæmisstjóra
DESCRIPTION:
URL:https://borgir.rotary1360.is/en/agenda/show/3018
DTSTART;TZID=Iceland:20210916T074500
DTEND;TZID=Iceland:20210916T084500
LOCATION:Borgir - safnaðarheimili\nHábraut 1\n200 Kópavogur\n
CATEGORIES:Rotary
END:VEVENT
BEGIN:VTIMEZONE
TZID:Iceland
BEGIN:STANDARD
DTSTART:20210916T074500
TZNAME:GMT
TZOFFSETTO:+0000
TZOFFSETFROM:+0000
END:STANDARD
END:VTIMEZONE
END:VCALENDAR
